BEGIN:VCALENDAR
VERSION:2.0
PRODID:-//Gosper County - ECPv6.15.20//NONSGML v1.0//EN
CALSCALE:GREGORIAN
METHOD:PUBLISH
X-WR-CALNAME:Gosper County
X-ORIGINAL-URL:https://gospercountyne.gov
X-WR-CALDESC:Events for Gosper County
REFRESH-INTERVAL;VALUE=DURATION:PT1H
X-Robots-Tag:noindex
X-PUBLISHED-TTL:PT1H
BEGIN:VTIMEZONE
TZID:America/Chicago
BEGIN:DAYLIGHT
TZOFFSETFROM:-0600
TZOFFSETTO:-0500
TZNAME:CDT
DTSTART:20280312T080000
END:DAYLIGHT
BEGIN:STANDARD
TZOFFSETFROM:-0500
TZOFFSETTO:-0600
TZNAME:CST
DTSTART:20281105T070000
END:STANDARD
BEGIN:DAYLIGHT
TZOFFSETFROM:-0600
TZOFFSETTO:-0500
TZNAME:CDT
DTSTART:20290311T080000
END:DAYLIGHT
BEGIN:STANDARD
TZOFFSETFROM:-0500
TZOFFSETTO:-0600
TZNAME:CST
DTSTART:20291104T070000
END:STANDARD
BEGIN:DAYLIGHT
TZOFFSETFROM:-0600
TZOFFSETTO:-0500
TZNAME:CDT
DTSTART:20300310T080000
END:DAYLIGHT
BEGIN:STANDARD
TZOFFSETFROM:-0500
TZOFFSETTO:-0600
TZNAME:CST
DTSTART:20301103T070000
END:STANDARD
END:VTIMEZONE
BEGIN:VEVENT
DTSTART;TZID=America/Chicago:20290101T000000
DTEND;TZID=America/Chicago:20290101T235959
DTSTAMP:20260424T052500
CREATED:20240730T161545Z
LAST-MODIFIED:20241212T170650Z
UID:10000310-1861920000-1862006399@gospercountyne.gov
SUMMARY:New Year's Day - Closed
DESCRIPTION:All Offices Closed
URL:https://gospercountyne.gov/event/new-years-day/2029-01-01/
CATEGORIES:Holiday
END:VEVENT
BEGIN:VEVENT
DTSTART;TZID=America/Chicago:20290110T090000
DTEND;TZID=America/Chicago:20290110T090000
DTSTAMP:20260424T052500
CREATED:20250804T162153Z
LAST-MODIFIED:20250909T205511Z
UID:10000385-1862730000-1862730000@gospercountyne.gov
SUMMARY:County Board Meeting
DESCRIPTION:This is a county board meeting. 
URL:https://gospercountyne.gov/event/county-board-meeting-2/2029-01-10/
LOCATION:Gosper County Courthouse\, 507 Smith Ave\, Elwood\, NE\, 68937\, United States
CATEGORIES:County Board Meeting
END:VEVENT
BEGIN:VEVENT
DTSTART;TZID=America/Chicago:20290115T080000
DTEND;TZID=America/Chicago:20290115T170000
DTSTAMP:20260424T052500
CREATED:20240730T161350Z
LAST-MODIFIED:20241212T170647Z
UID:10000304-1863158400-1863190800@gospercountyne.gov
SUMMARY:Martin Luther King Jr. Day - Closed
DESCRIPTION:All Offices Closed.
URL:https://gospercountyne.gov/event/martin-luther-king-jr-day/2029-01-15/
CATEGORIES:Holiday
END:VEVENT
BEGIN:VEVENT
DTSTART;TZID=America/Chicago:20290125T090000
DTEND;TZID=America/Chicago:20290125T141500
DTSTAMP:20260424T052500
CREATED:20250814T145647Z
LAST-MODIFIED:20250923T193630Z
UID:10000749-1864026000-1864044900@gospercountyne.gov
SUMMARY:Driver Exam
DESCRIPTION:Board Room\, Courthouse 9:00-12:00 and 12:30-2:15
URL:https://gospercountyne.gov/event/driver-exam/2029-01-25/
LOCATION:Gosper County Courthouse\, 507 Smith Ave\, Elwood\, NE\, 68937\, United States
CATEGORIES:Driver Exam
END:VEVENT
BEGIN:VEVENT
DTSTART;TZID=America/Chicago:20290131T090000
DTEND;TZID=America/Chicago:20290131T090000
DTSTAMP:20260424T052500
CREATED:20250815T155454Z
LAST-MODIFIED:20250815T155454Z
UID:10000686-1864544400-1864544400@gospercountyne.gov
SUMMARY:County Board Meeting
DESCRIPTION:This is a county board meeting. An agenda can be found on the Board Meetings page.
URL:https://gospercountyne.gov/event/county-board-meeting/2029-01-31/
LOCATION:Gosper County Courthouse\, 507 Smith Ave\, Elwood\, NE\, 68937\, United States
CATEGORIES:County Board Meeting
END:VEVENT
END:VCALENDAR