BEGIN:VCALENDAR
VERSION:2.0
PRODID:-//Gosper County - ECPv6.15.20//NONSGML v1.0//EN
CALSCALE:GREGORIAN
METHOD:PUBLISH
X-ORIGINAL-URL:https://gospercountyne.gov
X-WR-CALDESC:Events for Gosper County
REFRESH-INTERVAL;VALUE=DURATION:PT1H
X-Robots-Tag:noindex
X-PUBLISHED-TTL:PT1H
BEGIN:VTIMEZONE
TZID:America/Chicago
BEGIN:DAYLIGHT
TZOFFSETFROM:-0600
TZOFFSETTO:-0500
TZNAME:CDT
DTSTART:20270314T080000
END:DAYLIGHT
BEGIN:STANDARD
TZOFFSETFROM:-0500
TZOFFSETTO:-0600
TZNAME:CST
DTSTART:20271107T070000
END:STANDARD
BEGIN:DAYLIGHT
TZOFFSETFROM:-0600
TZOFFSETTO:-0500
TZNAME:CDT
DTSTART:20280312T080000
END:DAYLIGHT
BEGIN:STANDARD
TZOFFSETFROM:-0500
TZOFFSETTO:-0600
TZNAME:CST
DTSTART:20281105T070000
END:STANDARD
BEGIN:DAYLIGHT
TZOFFSETFROM:-0600
TZOFFSETTO:-0500
TZNAME:CDT
DTSTART:20290311T080000
END:DAYLIGHT
BEGIN:STANDARD
TZOFFSETFROM:-0500
TZOFFSETTO:-0600
TZNAME:CST
DTSTART:20291104T070000
END:STANDARD
END:VTIMEZONE
BEGIN:VEVENT
DTSTART;TZID=America/Chicago:20281213T090000
DTEND;TZID=America/Chicago:20281213T090000
DTSTAMP:20260424T041414
CREATED:20250804T162153Z
LAST-MODIFIED:20250909T205511Z
UID:10000384-1860310800-1860310800@gospercountyne.gov
SUMMARY:County Board Meeting
DESCRIPTION:This is a county board meeting. 
URL:https://gospercountyne.gov/event/county-board-meeting-2/2028-12-13/
LOCATION:Gosper County Courthouse\, 507 Smith Ave\, Elwood\, NE\, 68937\, United States
CATEGORIES:County Board Meeting
END:VEVENT
BEGIN:VEVENT
DTSTART;TZID=America/Chicago:20281225T000000
DTEND;TZID=America/Chicago:20281225T235959
DTSTAMP:20260424T041414
CREATED:20240429T211958Z
LAST-MODIFIED:20241212T170619Z
UID:10000275-1861315200-1861401599@gospercountyne.gov
SUMMARY:Christmas - Closed
DESCRIPTION:All Offices Closed
URL:https://gospercountyne.gov/event/christmas/2028-12-25/
CATEGORIES:Holiday
END:VEVENT
BEGIN:VEVENT
DTSTART;TZID=America/Chicago:20281227T090000
DTEND;TZID=America/Chicago:20281227T090000
DTSTAMP:20260424T041414
CREATED:20250815T155454Z
LAST-MODIFIED:20250815T155454Z
UID:10000685-1861520400-1861520400@gospercountyne.gov
SUMMARY:County Board Meeting
DESCRIPTION:This is a county board meeting. An agenda can be found on the Board Meetings page.
URL:https://gospercountyne.gov/event/county-board-meeting/2028-12-27/
LOCATION:Gosper County Courthouse\, 507 Smith Ave\, Elwood\, NE\, 68937\, United States
CATEGORIES:County Board Meeting
END:VEVENT
BEGIN:VEVENT
DTSTART;TZID=America/Chicago:20281228T090000
DTEND;TZID=America/Chicago:20281228T141500
DTSTAMP:20260424T041414
CREATED:20250814T145647Z
LAST-MODIFIED:20250923T193630Z
UID:10000748-1861606800-1861625700@gospercountyne.gov
SUMMARY:Driver Exam
DESCRIPTION:Board Room\, Courthouse 9:00-12:00 and 12:30-2:15
URL:https://gospercountyne.gov/event/driver-exam/2028-12-28/
LOCATION:Gosper County Courthouse\, 507 Smith Ave\, Elwood\, NE\, 68937\, United States
CATEGORIES:Driver Exam
END:VEVENT
END:VCALENDAR