BEGIN:VCALENDAR
VERSION:2.0
PRODID:-//Gosper County - ECPv6.15.20//NONSGML v1.0//EN
CALSCALE:GREGORIAN
METHOD:PUBLISH
X-WR-CALNAME:Gosper County
X-ORIGINAL-URL:https://gospercountyne.gov
X-WR-CALDESC:Events for Gosper County
REFRESH-INTERVAL;VALUE=DURATION:PT1H
X-Robots-Tag:noindex
X-PUBLISHED-TTL:PT1H
BEGIN:VTIMEZONE
TZID:America/Chicago
BEGIN:DAYLIGHT
TZOFFSETFROM:-0600
TZOFFSETTO:-0500
TZNAME:CDT
DTSTART:20270314T080000
END:DAYLIGHT
BEGIN:STANDARD
TZOFFSETFROM:-0500
TZOFFSETTO:-0600
TZNAME:CST
DTSTART:20271107T070000
END:STANDARD
BEGIN:DAYLIGHT
TZOFFSETFROM:-0600
TZOFFSETTO:-0500
TZNAME:CDT
DTSTART:20280312T080000
END:DAYLIGHT
BEGIN:STANDARD
TZOFFSETFROM:-0500
TZOFFSETTO:-0600
TZNAME:CST
DTSTART:20281105T070000
END:STANDARD
BEGIN:DAYLIGHT
TZOFFSETFROM:-0600
TZOFFSETTO:-0500
TZNAME:CDT
DTSTART:20290311T080000
END:DAYLIGHT
BEGIN:STANDARD
TZOFFSETFROM:-0500
TZOFFSETTO:-0600
TZNAME:CST
DTSTART:20291104T070000
END:STANDARD
END:VTIMEZONE
BEGIN:VEVENT
DTSTART;TZID=America/Chicago:20280101T000000
DTEND;TZID=America/Chicago:20280101T235959
DTSTAMP:20260419T150226
CREATED:20240730T161545Z
LAST-MODIFIED:20241212T170650Z
UID:10000309-1830297600-1830383999@gospercountyne.gov
SUMMARY:New Year's Day - Closed
DESCRIPTION:All Offices Closed
URL:https://gospercountyne.gov/event/new-years-day/2028-01-01/
CATEGORIES:Holiday
END:VEVENT
BEGIN:VEVENT
DTSTART;TZID=America/Chicago:20280112T090000
DTEND;TZID=America/Chicago:20280112T090000
DTSTAMP:20260419T150226
CREATED:20250804T162153Z
LAST-MODIFIED:20250909T205511Z
UID:10000373-1831280400-1831280400@gospercountyne.gov
SUMMARY:County Board Meeting
DESCRIPTION:This is a county board meeting. 
URL:https://gospercountyne.gov/event/county-board-meeting-2/2028-01-12/
LOCATION:Gosper County Courthouse\, 507 Smith Ave\, Elwood\, NE\, 68937\, United States
CATEGORIES:County Board Meeting
END:VEVENT
BEGIN:VEVENT
DTSTART;TZID=America/Chicago:20280117T080000
DTEND;TZID=America/Chicago:20280117T170000
DTSTAMP:20260419T150226
CREATED:20240730T161350Z
LAST-MODIFIED:20241212T170647Z
UID:10000303-1831708800-1831741200@gospercountyne.gov
SUMMARY:Martin Luther King Jr. Day - Closed
DESCRIPTION:All Offices Closed.
URL:https://gospercountyne.gov/event/martin-luther-king-jr-day/2028-01-17/
CATEGORIES:Holiday
END:VEVENT
BEGIN:VEVENT
DTSTART;TZID=America/Chicago:20280126T090000
DTEND;TZID=America/Chicago:20280126T090000
DTSTAMP:20260419T150226
CREATED:20250815T155454Z
LAST-MODIFIED:20250815T155454Z
UID:10000674-1832490000-1832490000@gospercountyne.gov
SUMMARY:County Board Meeting
DESCRIPTION:This is a county board meeting. An agenda can be found on the Board Meetings page.
URL:https://gospercountyne.gov/event/county-board-meeting/2028-01-26/
LOCATION:Gosper County Courthouse\, 507 Smith Ave\, Elwood\, NE\, 68937\, United States
CATEGORIES:County Board Meeting
END:VEVENT
BEGIN:VEVENT
DTSTART;TZID=America/Chicago:20280127T090000
DTEND;TZID=America/Chicago:20280127T141500
DTSTAMP:20260419T150226
CREATED:20250814T145647Z
LAST-MODIFIED:20250923T193630Z
UID:10000737-1832576400-1832595300@gospercountyne.gov
SUMMARY:Driver Exam
DESCRIPTION:Board Room\, Courthouse 9:00-12:00 and 12:30-2:15
URL:https://gospercountyne.gov/event/driver-exam/2028-01-27/
LOCATION:Gosper County Courthouse\, 507 Smith Ave\, Elwood\, NE\, 68937\, United States
CATEGORIES:Driver Exam
END:VEVENT
END:VCALENDAR