BEGIN:VCALENDAR
VERSION:2.0
PRODID:-//Gosper County - ECPv6.15.20//NONSGML v1.0//EN
CALSCALE:GREGORIAN
METHOD:PUBLISH
X-ORIGINAL-URL:https://gospercountyne.gov
X-WR-CALDESC:Events for Gosper County
REFRESH-INTERVAL;VALUE=DURATION:PT1H
X-Robots-Tag:noindex
X-PUBLISHED-TTL:PT1H
BEGIN:VTIMEZONE
TZID:America/Chicago
BEGIN:DAYLIGHT
TZOFFSETFROM:-0600
TZOFFSETTO:-0500
TZNAME:CDT
DTSTART:20250309T080000
END:DAYLIGHT
BEGIN:STANDARD
TZOFFSETFROM:-0500
TZOFFSETTO:-0600
TZNAME:CST
DTSTART:20251102T070000
END:STANDARD
BEGIN:DAYLIGHT
TZOFFSETFROM:-0600
TZOFFSETTO:-0500
TZNAME:CDT
DTSTART:20260308T080000
END:DAYLIGHT
BEGIN:STANDARD
TZOFFSETFROM:-0500
TZOFFSETTO:-0600
TZNAME:CST
DTSTART:20261101T070000
END:STANDARD
BEGIN:DAYLIGHT
TZOFFSETFROM:-0600
TZOFFSETTO:-0500
TZNAME:CDT
DTSTART:20270314T080000
END:DAYLIGHT
BEGIN:STANDARD
TZOFFSETFROM:-0500
TZOFFSETTO:-0600
TZNAME:CST
DTSTART:20271107T070000
END:STANDARD
END:VTIMEZONE
BEGIN:VEVENT
DTSTART;TZID=America/Chicago:20260101T000000
DTEND;TZID=America/Chicago:20260101T235959
DTSTAMP:20260425T100033
CREATED:20240730T161545Z
LAST-MODIFIED:20241212T170650Z
UID:10000307-1767225600-1767311999@gospercountyne.gov
SUMMARY:New Year's Day - Closed
DESCRIPTION:All Offices Closed
URL:https://gospercountyne.gov/event/new-years-day/2026-01-01/
CATEGORIES:Holiday
END:VEVENT
BEGIN:VEVENT
DTSTART;TZID=America/Chicago:20260114T090000
DTEND;TZID=America/Chicago:20260114T090000
DTSTAMP:20260425T100033
CREATED:20250804T162153Z
LAST-MODIFIED:20250909T205511Z
UID:10000349-1768381200-1768381200@gospercountyne.gov
SUMMARY:County Board Meeting
DESCRIPTION:This is a county board meeting. 
URL:https://gospercountyne.gov/event/county-board-meeting-2/2026-01-14/
LOCATION:Gosper County Courthouse\, 507 Smith Ave\, Elwood\, NE\, 68937\, United States
CATEGORIES:County Board Meeting
END:VEVENT
BEGIN:VEVENT
DTSTART;TZID=America/Chicago:20260119T080000
DTEND;TZID=America/Chicago:20260119T170000
DTSTAMP:20260425T100033
CREATED:20240730T161350Z
LAST-MODIFIED:20241212T170647Z
UID:10000301-1768809600-1768842000@gospercountyne.gov
SUMMARY:Martin Luther King Jr. Day - Closed
DESCRIPTION:All Offices Closed.
URL:https://gospercountyne.gov/event/martin-luther-king-jr-day/2026-01-19/
CATEGORIES:Holiday
END:VEVENT
BEGIN:VEVENT
DTSTART;TZID=America/Chicago:20260122T090000
DTEND;TZID=America/Chicago:20260122T141500
DTSTAMP:20260425T100033
CREATED:20250814T145647Z
LAST-MODIFIED:20250923T193630Z
UID:10000713-1769072400-1769091300@gospercountyne.gov
SUMMARY:Driver Exam
DESCRIPTION:Board Room\, Courthouse 9:00-12:00 and 12:30-2:15
URL:https://gospercountyne.gov/event/driver-exam/2026-01-22/
LOCATION:Gosper County Courthouse\, 507 Smith Ave\, Elwood\, NE\, 68937\, United States
CATEGORIES:Driver Exam
END:VEVENT
BEGIN:VEVENT
DTSTART;TZID=America/Chicago:20260128T090000
DTEND;TZID=America/Chicago:20260128T090000
DTSTAMP:20260425T100033
CREATED:20250815T155454Z
LAST-MODIFIED:20250815T155454Z
UID:10000650-1769590800-1769590800@gospercountyne.gov
SUMMARY:County Board Meeting
DESCRIPTION:This is a county board meeting. An agenda can be found on the Board Meetings page.
URL:https://gospercountyne.gov/event/county-board-meeting/2026-01-28/
LOCATION:Gosper County Courthouse\, 507 Smith Ave\, Elwood\, NE\, 68937\, United States
CATEGORIES:County Board Meeting
END:VEVENT
END:VCALENDAR