BEGIN:VCALENDAR
VERSION:2.0
PRODID:-//Gosper County - ECPv6.15.20//NONSGML v1.0//EN
CALSCALE:GREGORIAN
METHOD:PUBLISH
X-WR-CALNAME:Gosper County
X-ORIGINAL-URL:https://gospercountyne.gov
X-WR-CALDESC:Events for Gosper County
REFRESH-INTERVAL;VALUE=DURATION:PT1H
X-Robots-Tag:noindex
X-PUBLISHED-TTL:PT1H
BEGIN:VTIMEZONE
TZID:America/Chicago
BEGIN:DAYLIGHT
TZOFFSETFROM:-0600
TZOFFSETTO:-0500
TZNAME:CDT
DTSTART:20240310T080000
END:DAYLIGHT
BEGIN:STANDARD
TZOFFSETFROM:-0500
TZOFFSETTO:-0600
TZNAME:CST
DTSTART:20241103T070000
END:STANDARD
BEGIN:DAYLIGHT
TZOFFSETFROM:-0600
TZOFFSETTO:-0500
TZNAME:CDT
DTSTART:20250309T080000
END:DAYLIGHT
BEGIN:STANDARD
TZOFFSETFROM:-0500
TZOFFSETTO:-0600
TZNAME:CST
DTSTART:20251102T070000
END:STANDARD
BEGIN:DAYLIGHT
TZOFFSETFROM:-0600
TZOFFSETTO:-0500
TZNAME:CDT
DTSTART:20260308T080000
END:DAYLIGHT
BEGIN:STANDARD
TZOFFSETFROM:-0500
TZOFFSETTO:-0600
TZNAME:CST
DTSTART:20261101T070000
END:STANDARD
END:VTIMEZONE
BEGIN:VEVENT
DTSTART;VALUE=DATE:20250901
DTEND;VALUE=DATE:20250902
DTSTAMP:20260425T145445
CREATED:20240726T143020Z
LAST-MODIFIED:20241212T171106Z
UID:10000328-1756684800-1756771199@gospercountyne.gov
SUMMARY:Labor Day - Closed
DESCRIPTION:All Offices Closed
URL:https://gospercountyne.gov/event/labor-day/2025-09-01/
CATEGORIES:Holiday
END:VEVENT
BEGIN:VEVENT
DTSTART;TZID=America/Chicago:20250910T090000
DTEND;TZID=America/Chicago:20250910T090000
DTSTAMP:20260425T145445
CREATED:20250804T162153Z
LAST-MODIFIED:20250909T205511Z
UID:10000345-1757494800-1757494800@gospercountyne.gov
SUMMARY:County Board Meeting
DESCRIPTION:This is a county board meeting. 
URL:https://gospercountyne.gov/event/county-board-meeting-2/2025-09-10/
LOCATION:Gosper County Courthouse\, 507 Smith Ave\, Elwood\, NE\, 68937\, United States
CATEGORIES:County Board Meeting
END:VEVENT
BEGIN:VEVENT
DTSTART;TZID=America/Chicago:20250925T090000
DTEND;TZID=America/Chicago:20250925T141500
DTSTAMP:20260425T145445
CREATED:20250923T193139Z
LAST-MODIFIED:20250923T193437Z
UID:10000525-1758790800-1758809700@gospercountyne.gov
SUMMARY:Driver Exam
DESCRIPTION:CLOSED\nBoard Room\, Courthouse 9:00-12:00 and 12:30-2:15
URL:https://gospercountyne.gov/event/driver-exam-2/
LOCATION:Gosper County Courthouse\, 507 Smith Ave\, Elwood\, NE\, 68937\, United States
CATEGORIES:Driver Exam
END:VEVENT
BEGIN:VEVENT
DTSTART;TZID=America/Chicago:20250930T090000
DTEND;TZID=America/Chicago:20250930T090000
DTSTAMP:20260425T145445
CREATED:20250815T155653Z
LAST-MODIFIED:20250815T155714Z
UID:10000646-1759222800-1759222800@gospercountyne.gov
SUMMARY:County Board Meeting
DESCRIPTION:This is a county board meeting. An agenda can be found on the Board Meetings page.
URL:https://gospercountyne.gov/event/county-board-meeting-3/
LOCATION:Gosper County Courthouse\, 507 Smith Ave\, Elwood\, NE\, 68937\, United States
CATEGORIES:County Board Meeting
END:VEVENT
END:VCALENDAR